BEGIN:VCALENDAR
VERSION:2.0
PRODID:-//wp-events-plugin.com//7.2.3//EN
TZID:Europe/Paris
X-WR-TIMEZONE:Europe/Paris
BEGIN:VEVENT
UID:76@pat-cvl.fr
DTSTART;TZID=Europe/Paris;VALUE=DATE:20220311
DTEND;TZID=Europe/Paris;VALUE=DATE:20220525
DTSTAMP:20220525T075536Z
URL:https://www.pat-cvl.fr/agenda/cycle-de-webinaires-ma-cantine-restaurat
 ion-collective/
SUMMARY:Cycle de webinaires "ma cantine" - restauration collective
DESCRIPTION:Dans le cadre de l’actualité législative s’appliquant à 
 la restauration collective\, nous vous annonçons une série de 6 webinair
 es réalisés par le ministère de l’Agriculture et de l’Alimentation 
 et l’équipe de Défis &amp\; Controverses à partir de février 2022.\n
 \nDepuis les Etats Généraux de l’Alimentation et l’installation du C
 onseil National de la Restauration collective (CNRC)\, les services du min
 istère de l’Agriculture et de l’Alimentation se sont engagés à acco
 mpagner l’ensemble des restaurations collectives en développant une pla
 teforme d’information et de coopération\, ma cantine\, à destination d
 e tous les acteurs.\n\n« ma cantine » est une plateforme d’informati
 ons partagées\, qui permet d’évaluer et de diagnostiquer son restauran
 t collectif et de mettre en place des actions pour une transition vers une
  alimentation plus saine et durable. https://ma-cantine.beta.gouv.fr/accue
 il\n\nCes webinaires ont pour objectif de présenter et de vous accompagne
 r dans l’utilisation de cet outil. Dans une logique d’accompagnement\,
  notre objectif est de montrer que des outils existent et de faciliter leu
 r utilisation\, mais aussi que vous exprimiez vos besoins dans une logique
  d’intelligence collective.\n\n\n\nChacun de ces webinaires s’adresse 
 à une grande famille de la restauration collective (hors écoles élémen
 taires). Que vous soyez élu\, membre d’une association de gestion des r
 estaurants administratifs\, directeur ou gérant d’établissement\, gest
 ionnaire\, cuisinier\, responsable de production\, personnel de service\, 
 acheteur\, prestataire\, opérateur\, fournisseur\, convive ou représenta
 nt...\nInscrivez-vous dès maintenant !\n\n Le 1er février à 14 h : R
 estaurants collectifs administratifs de l’Etat\n Le 15 mars à 14 h : 
 Sociétés de restauration collective et leurs clients\n Le 5 avril à 14 
 h : Restauration collective des EHPAD (Inscription)\n Le 17 mai à 14 h : 
 Restauration collective des hôpitaux (Inscription)\n Le 31 mai à 14 h : 
 Restauration collective des collèges et lycées (EPLE) (Inscription)\n Le
  14 juin à 14 h : Restauration collective des établissements scolaires p
 rivés (Inscription)\n\nToute l’info : https://cms.smartp.com/v/-1/399/
 53/...
ATTACH;FMTTYPE=image/jpeg:https://www.pat-cvl.fr/wp-content/uploads/2022/0
 3/spaghetti-1260818_1920-1.jpg
LOCATION:https://us02web.zoom.us/webinar/reg...
END:VEVENT
BEGIN:VTIMEZONE
TZID:Europe/Paris
X-LIC-LOCATION:Europe/Paris
BEGIN:STANDARD
DTSTART:20211031T020000
TZOFFSETFROM:+0200
TZOFFSETTO:+0100
TZNAME:CET
END:STANDARD
BEGIN:DAYLIGHT
DTSTART:20220327T030000
TZOFFSETFROM:+0100
TZOFFSETTO:+0200
TZNAME:CEST
END:DAYLIGHT
END:VTIMEZONE
END:VCALENDAR