BEGIN:VCALENDAR
VERSION:2.0
PRODID:-//wp-events-plugin.com//7.2.3//EN
TZID:Europe/Paris
X-WR-TIMEZONE:Europe/Paris
BEGIN:VEVENT
UID:99@pat-cvl.fr
DTSTART;TZID=Europe/Paris:20221109T183000
DTEND;TZID=Europe/Paris:20221109T183000
DTSTAMP:20220721T083856Z
URL:https://www.pat-cvl.fr/agenda/debat-degustation-les-initiatives-anti-g
 aspillage-alimentaire/
SUMMARY:Débat Dégustation - Les initiatives anti-gaspillage alimentaire
DESCRIPTION:L'Institut Européen d’Histoire et des Cultures de l'Alimenta
 tion (IEHCA) organise un débat sur les initiatives anti-gaspillage alimen
 taire à Tours.\n\nLe gaspillage alimentaire est une constante à toutes l
 es étapes de la filière : on estime qu'environ 30% des denrées alimenta
 ires produites sur la planète ne sont pas consommées. Un gâchis d'autan
 t plus considérable qu'on envisage l'ensemble des ressources utilisées d
 ans la production\, la transformation et la distribution des aliments puis
  à leur traîtement en tant que déchet.\n\nPourtant des solutions existe
 nt ! Alors\, quelles actions peut-on mettre en place à l'échelle locale 
 pour diminuer le gaspillage alimentaire?\n\nAu programme...\nMODÉRATEUR :
 \nBRIAN JOUBERT\, ANIMATEUR\, LA BANQUE ALIMENTAIRE 37\nINTERVENANTS :\nCA
 THY GEMON\, DOCTORANTE EN GÉOGRAPHIE\, UNIVERSITÉ D’ORLÉANS\nSANDRINE
  VRIGNAUD\, COLLECTIF BONNE MINES\, ASSOCIATION UNIVERSITAIRE CONTRE LA PR
 ÉCARITÉ\n\nInscription ici !\n\n&nbsp\;
ATTACH;FMTTYPE=image/jpeg:https://www.pat-cvl.fr/wp-content/uploads/2022/0
 7/c_discosoup_brest_-_flickr_-_antigaspi.jpg
LOCATION:Villa Rabelais\, 116 Boulevard Béranger  \, Tours\, 37000\, Centr
 e-Val de Loire\, France
X-APPLE-STRUCTURED-LOCATION;VALUE=URI;X-ADDRESS=116 Boulevard Béranger  \,
  Tours\, 37000\, Centre-Val de Loire\, France;X-APPLE-RADIUS=100;X-TITLE=V
 illa Rabelais:geo:0,0
END:VEVENT
BEGIN:VTIMEZONE
TZID:Europe/Paris
X-LIC-LOCATION:Europe/Paris
BEGIN:STANDARD
DTSTART:20221030T020000
TZOFFSETFROM:+0200
TZOFFSETTO:+0100
TZNAME:CET
END:STANDARD
END:VTIMEZONE
END:VCALENDAR