BEGIN:VCALENDAR
VERSION:2.0
PRODID:-//wp-events-plugin.com//7.2.3//EN
TZID:Europe/Paris
X-WR-TIMEZONE:Europe/Paris
BEGIN:VEVENT
UID:203@pat-cvl.fr
DTSTART;TZID=Europe/Paris;VALUE=DATE:20241211
DTEND;TZID=Europe/Paris;VALUE=DATE:20241213
DTSTAMP:20241010T092335Z
URL:https://www.pat-cvl.fr/agenda/formation-agir-pour-le-developpement-et-
 la-structuration-des-filieres-bio-de-territoire/
SUMMARY:Formation « Agir pour le développement et la structuration des fi
 lières bio de territoire »
DESCRIPTION:Les 11 et 12 décembre prochains à Paris\, la Fédération nat
 ionale d’Agriculture Biologique vous propose une formation intitulée «
  Agir pour le développement et la structuration des filières bio de ter
 ritoire ».\n\nRelocaliser son alimentation\, diversifier les productions
 \, s’adapter au changement climatique grâce à des filières plus rési
 lientes\, dynamiser le tissu économique local…Cette formation répond 
 à des enjeux importants pour l’avenir de nos territoires.\n\n\nEn plus 
 de bénéficier des apports de nos deux intervenants\, cette formation ser
 a l’occasion de rencontrer vos pairs et de partager vos expériences\, v
 os problématiques et vos solutions.\n\nElle s’adresse aux élus\, resp
 onsables de service et à l’ensemble des agents des collectivités local
 es ainsi qu’aux personnes travaillant dans d’autres organismes public
 s (syndicats d’eau…) dont les missions sont en lien avec l’agricult
 ure\, l’alimentation\, le développement économique.\nInscriptions et i
 nformations pratiques
ATTACH;FMTTYPE=image/jpeg:https://www.pat-cvl.fr/wp-content/uploads/2024/1
 0/Logo-FNAB.png
LOCATION:Hôtel CIS Paris Kellermann\, 17 Bd Kellermann\, Paris\, 75013\, F
 rance
X-APPLE-STRUCTURED-LOCATION;VALUE=URI;X-ADDRESS=17 Bd Kellermann\, Paris\, 
 75013\, France;X-APPLE-RADIUS=100;X-TITLE=Hôtel CIS Paris Kellermann:geo:
 0,0
END:VEVENT
BEGIN:VTIMEZONE
TZID:Europe/Paris
X-LIC-LOCATION:Europe/Paris
BEGIN:STANDARD
DTSTART:20241027T020000
TZOFFSETFROM:+0200
TZOFFSETTO:+0100
TZNAME:CET
END:STANDARD
END:VTIMEZONE
END:VCALENDAR