BEGIN:VCALENDAR
VERSION:2.0
PRODID:-//wp-events-plugin.com//7.2.3//EN
TZID:Europe/Paris
X-WR-TIMEZONE:Europe/Paris
BEGIN:VEVENT
UID:283@pat-cvl.fr
DTSTART;TZID=Europe/Paris:20260316T180000
DTEND;TZID=Europe/Paris:20260316T200000
DTSTAMP:20260121T101727Z
URL:https://www.pat-cvl.fr/agenda/formation-creation-damap-2026-2/
SUMMARY:Formation - Création d'AMAP 2026
DESCRIPTION:Le Réseau des AMAP en Centre-Val de Loire vous informe que sa 
 formation Création d'AMAP 2026 se déroulera sur les mois de Février &am
 p\; Mars.\n\nCette formation a lieu en ligne et en soirée de 18h à 20h. 
 Elle est divisée en 3 modules thématiques et adressée à un large publi
 c : mangeurs/euses curieux.ses\, paysan.nes\, candidat.e.s à l'installati
 on agricole\, et citoyen.nes qui souhaitent monter un collectif d'AMAP ou 
 en savoir plus sur le système AMAP.\n\n 	Module 1 : Lundi 23/02 - J'ai en
 vie de créer une AMAP\n 	Module 2 : Lundi 16/03 - Je me lance\, je crée 
 mon AMAP\n 	Module 3 : Lundi 30/03 - Je fais vivre mon AMAP\n\nL'inscripti
 on est gratuite et engage à la participation à l'ensemble des modules.\n
 \n&gt\;&gt\; S'inscrire à la formation &lt\;&lt\; \n\nTélécharger l'aff
 iche.\n&nbsp\;
ATTACH;FMTTYPE=image/jpeg:https://www.pat-cvl.fr/wp-content/uploads/2026/0
 1/reseau-amap.png
LOCATION:https://forms.gle/GDaWgrukas3rhSa4A
END:VEVENT
BEGIN:VTIMEZONE
TZID:Europe/Paris
X-LIC-LOCATION:Europe/Paris
BEGIN:STANDARD
DTSTART:20251026T020000
TZOFFSETFROM:+0200
TZOFFSETTO:+0100
TZNAME:CET
END:STANDARD
END:VTIMEZONE
END:VCALENDAR