BEGIN:VCALENDAR
VERSION:2.0
PRODID:-//wp-events-plugin.com//7.2.3//EN
TZID:Europe/Paris
X-WR-TIMEZONE:Europe/Paris
BEGIN:VEVENT
UID:29@pat-cvl.fr
DTSTART;TZID=Europe/Paris:20210223T190000
DTEND;TZID=Europe/Paris:20210223T210000
DTSTAMP:20210212T111334Z
URL:https://www.pat-cvl.fr/agenda/formation-le-suivi-des-engagements-le-pa
 cte-pour-la-transition/
SUMMARY:Formation - Le suivi des engagements - Le Pacte pour la transition
DESCRIPTION:Le suivi des engagements\, où comment récolter des informatio
 ns sur la mise en œuvre des mesures du Pacte et les utiliser\, est un él
 ément essentiel pour tous les collectifs\, qui peut servir à :\n\n\n 	va
 loriser les réalisation positives des collectivités \;\n 	critiquer leur
  inaction \;\n 	et dans tous les cas inscrire votre démarche dans une dyn
 amique citoyenne commune.\n\nCet formation aura pour but d'échanger sur c
 es sujets. Seront organisés pendant la deuxième partie de la formation 2
  ateliers de partage\, optionnels\, sur le suivi des engagements dans les 
 petites et grandes communes.
ATTACH;FMTTYPE=image/jpeg:https://www.pat-cvl.fr/wp-content/uploads/2021/0
 1/pacte-logo-e1611131729945.png
LOCATION:https://www.helloasso.com/associations/collectif-pour-une-transiti
 on-citoyenne/evenements/formation-2-du-pacte-post-elections-faire-le-suivi
 -des-engagements
END:VEVENT
BEGIN:VTIMEZONE
TZID:Europe/Paris
X-LIC-LOCATION:Europe/Paris
BEGIN:STANDARD
DTSTART:20201025T020000
TZOFFSETFROM:+0200
TZOFFSETTO:+0100
TZNAME:CET
END:STANDARD
END:VTIMEZONE
END:VCALENDAR