BEGIN:VCALENDAR
VERSION:2.0
PRODID:-//wp-events-plugin.com//7.2.3//EN
TZID:Europe/Paris
X-WR-TIMEZONE:Europe/Paris
BEGIN:VEVENT
UID:234@pat-cvl.fr
DTSTART;TZID=Europe/Paris;VALUE=DATE:20250402
DTEND;TZID=Europe/Paris;VALUE=DATE:20250403
DTSTAMP:20250226T094203Z
URL:https://www.pat-cvl.fr/agenda/journee-de-rencontre-pat-et-tiers-lieux-
 nourriciers/
SUMMARY:Journée de rencontre PAT et tiers-lieux nourriciers
DESCRIPTION:Ne ratez pas la 2e rencontre sur les coopérations entre PAT et
  tiers-lieux nourriciers le 2 avril 2025 à la Ferme des Possibles. Au pro
 gramme : des retours d’expériences de coopérations entre tiers-lieux e
 t PAT\, une visite apprenante de la Ferme des Possibles et des ateliers de
  travail réunissant PAT et tiers-lieux afin d'identifier les leviers pour
  renforcer la démocratie alimentaire et accélérer la transition agro-é
 cologique.\nSi vous souhaitez participer à la journée\, merci de vous in
 scrire via le formulaire suivant : \nInscriptions
ATTACH;FMTTYPE=image/jpeg:https://www.pat-cvl.fr/wp-content/uploads/2025/0
 2/pat-tiers-lieux.jpg
LOCATION:Fermes des Possibles\, 29 Rue d'Amiens\, Stains\, 93240 \, France
X-APPLE-STRUCTURED-LOCATION;VALUE=URI;X-ADDRESS=29 Rue d'Amiens\, Stains\, 
 93240 \, France;X-APPLE-RADIUS=100;X-TITLE=Fermes des Possibles:geo:0,0
END:VEVENT
BEGIN:VTIMEZONE
TZID:Europe/Paris
X-LIC-LOCATION:Europe/Paris
BEGIN:DAYLIGHT
DTSTART:20250330T030000
TZOFFSETFROM:+0100
TZOFFSETTO:+0200
TZNAME:CEST
END:DAYLIGHT
END:VTIMEZONE
END:VCALENDAR