BEGIN:VCALENDAR
VERSION:2.0
PRODID:-//wp-events-plugin.com//7.2.3//EN
TZID:Europe/Paris
X-WR-TIMEZONE:Europe/Paris
BEGIN:VEVENT
UID:84@pat-cvl.fr
DTSTART;TZID=Europe/Paris:20220617T093000
DTEND;TZID=Europe/Paris:20220617T170000
DTSTAMP:20220519T143255Z
URL:https://www.pat-cvl.fr/agenda/journee-territoire-alimentation-gestion-
 concedee-et-introduction-des-produits-bio/
SUMMARY:Journée Territoire Alimentation : Gestion concédée et introducti
 on des produits bio
DESCRIPTION:Le Réseau Bio Centre Val de Loire organise une journée d'éch
 ange à destination des collectivités qui ont une restauration scolaire e
 n gestion concédée. Cette journée est organisée dans le cadre d'un cyc
 le de trois évènements pour aborder les possibilités et les leviers du 
 respect de la loi EGAlim dans la restauration collective publique.\n\nNous
  aborderons les questions suivantes :\nQuels sont les droits des collectiv
 ités en matière de gestion concédée pour l'introduction de produits bi
 o et locaux ?\nComment rédiger un marché pour de la gestion concédée p
 our respecter les objectifs de la loi EGAlim ?\nQue peuvent demander les c
 ollectivités à leurs prestataires en terme d'introduction de produits bi
 o et locaux ?\nQuel accompagnement du Réseau Bio Centre Val de Loire pour
  la rédaction des marchés et l'orientation des prestataires ?\nQui sont 
 les opérateurs bio en région qui peuvent répondre aux appels d'offre d'
 approvisionnement des prestataires ? existe-t-il des plateforme pour l'ach
 at de produits bio ?\n\nLa matinée se déroulera en salle avec deux temps
  de présentation :\nl'intervention de David Lorjoux\, chargé de mission 
 restauration collective du GAB Loire Atlantique\, qui présentera les aspe
 cts juridiques et techniques pour l'introduction de produits bio et locaux
 \nprésentation du Réseau Centre Val de Loire de son accompagnement aux c
 ollectivités\nUne présentation de la future plateforme Manger Bio en Cen
 tre Val de Loire\, plateforme de commande et logistique 100% bio\, clôtur
 era le temps d'échange en salle suite au déjeuner. Vous visiterez ensuit
 e un opérateur bio de transformation de farines\, pâtes... La Ferme du C
 hat Blanc.\n\nCet évènement est gratuit\, seule la restauration est à 
 à la charge du participant.
ATTACH;FMTTYPE=image/jpeg:https://www.pat-cvl.fr/wp-content/uploads/2022/0
 5/Invitation-Territoires-17-juin.jpg
LOCATION:Salle du Présbytère\, Rue de Sixtre\, Maves\, France
X-APPLE-STRUCTURED-LOCATION;VALUE=URI;X-ADDRESS=Rue de Sixtre\, Maves\, Fra
 nce;X-APPLE-RADIUS=100;X-TITLE=Salle du Présbytère:geo:0,0
END:VEVENT
BEGIN:VTIMEZONE
TZID:Europe/Paris
X-LIC-LOCATION:Europe/Paris
BEGIN:DAYLIGHT
DTSTART:20220327T030000
TZOFFSETFROM:+0100
TZOFFSETTO:+0200
TZNAME:CEST
END:DAYLIGHT
END:VTIMEZONE
END:VCALENDAR