BEGIN:VCALENDAR
VERSION:2.0
PRODID:-//wp-events-plugin.com//7.2.3//EN
TZID:Europe/Paris
X-WR-TIMEZONE:Europe/Paris
BEGIN:VEVENT
UID:150@pat-cvl.fr
DTSTART;TZID=Europe/Paris:20231020T093000
DTEND;TZID=Europe/Paris:20231020T120000
DTSTAMP:20231005T093028Z
URL:https://www.pat-cvl.fr/agenda/le-numerique-dans-les-filieres-agricoles
 -et-alimentaires-seminaire-chaire-unesco-alimentations-du-monde/
SUMMARY:Le numérique dans les filières agricoles et alimentaires - Sémin
 aire Chaire UNESCO Alimentations du Monde
DESCRIPTION:Comme à chaque début d'année universitaire\, dans le cadre d
 u Mastère spécialisé® IPAD\, la Chaire organise un séminaire de forma
 tion\, ouvert à toutes et tous.\nVendredi 20 octobre 9h30-12h Bruno Tisse
 yre\, UMR ITAP\, (L’Institut Agro Montpellier) : « Le numérique dans
  les filières agricoles et alimentaires »
ATTACH;FMTTYPE=image/jpeg:https://www.pat-cvl.fr/wp-content/uploads/2023/1
 0/seminaire-unesco.png
LOCATION:https://teams.microsoft.com/convene/meetings?url=%2Fl%2Fmeetup-joi
 n%2F19%3Ameeting_Yzc5Yjk1OGMtOGMzOC00NzFlLWEzNDgtOGY5N2UzMGQ3NWVl%40thread
 .v2%2F0%3Fcontext%3D%257B%2522Tid%2522%253A%252260af5f90-e3b4-47d6-8c8e-e6
 d6d2b117b9%2522%252C%2522Oid%2522%253A%2522a93e1498-ed74-4b40-85d5-419e4ac
 fabbd%2522%252C%2522IsBroadcastMeeting%2522%253Atrue%252C%2522role%2522%25
 3A%2522a%2522%257D%26btype%3Da%26role%3Da%26anon%3Dtrue&tenantId=60af5f90-
 e3b4-47d6-8c8e-e6d6d2b117b9&deeplinkId=55a81f71-2345-4c20-b3f3-bff0fd0411e
 e
END:VEVENT
BEGIN:VTIMEZONE
TZID:Europe/Paris
X-LIC-LOCATION:Europe/Paris
BEGIN:DAYLIGHT
DTSTART:20230326T030000
TZOFFSETFROM:+0100
TZOFFSETTO:+0200
TZNAME:CEST
END:DAYLIGHT
END:VTIMEZONE
END:VCALENDAR