BEGIN:VCALENDAR
VERSION:2.0
PRODID:-//wp-events-plugin.com//7.2.3//EN
TZID:Europe/Paris
X-WR-TIMEZONE:Europe/Paris
BEGIN:VEVENT
UID:285@pat-cvl.fr
DTSTART;TZID=Europe/Paris:20260129T140000
DTEND;TZID=Europe/Paris:20260129T180000
DTSTAMP:20260121T103550Z
URL:https://www.pat-cvl.fr/agenda/municipales-2026-le-droit-a-lalimentatio
 n-des-solutions-pour-ma-commune/
SUMMARY:Municipales 2026 : le droit à l'alimentation\, des solutions pour 
 ma commune
DESCRIPTION:Terre de Liens Centre-Val de Loire\, dans le cadre des municipa
 les 2026\, invite les candidat·es et élu·es à visiter des fermes inspi
 rantes et engagées dans la production d’une alimentation saine pour tou
 tes et tous. \nEn région Centre-Val de Loire\, la commune de Chambray-lè
 s-Tours a inauguré en 2021-2022 une ferme maraîchère biologique municip
 ale : une « régie agricole » de 2 hectares dont la production approvisi
 onne la restauration collective. Terre de Liens vous convie à découvrir 
 ce projet le jeudi 29 janvier\, à 14h00. Après une visite et présentati
 on de la ferme par Yves Delcroix\, élu de la commune\, les participant·e
 s pourront assister à une table ronde\, à la salle Godefroy\, où ils et
  elles entendront nos invité·es échanger sur " En tant qu'élu.e.s\, co
 mment contribuer à mettre en œuvre un droit à l'alimentation de qualit
 é pour toutes et tous sur mon territoire ? "\n&nbsp\;\n\nDéroulé de la 
 journée\n\n&nbsp\;\n\n 	14h00 - Accueil à la régie agricole de Chambray
 -lès-Tours et présentation du projet par Yves Delcroix (Parking du Gymna
 se de la Fontaine Blanche)\n\n&nbsp\;\n\n 	15h30 - Table ronde sur le droi
 t à l'alimentation\, à la salle Godefroy de Chambray-lès-Tours (au 17 A
 v. des Platanes)\n\n&nbsp\;\n\n 	18h00 - Clôture\n\n&nbsp\;\n&gt\;&gt\; S
 'inscrire à l'événement &lt\;&lt\;
ATTACH;FMTTYPE=image/jpeg:https://www.pat-cvl.fr/wp-content/uploads/2026/0
 1/TDL_PDL_BD_RVB-removebg-preview.png
LOCATION:Chambray-les-Tours\, \, France
X-APPLE-STRUCTURED-LOCATION;VALUE=URI;X-ADDRESS=\, France;X-APPLE-RADIUS=10
 0;X-TITLE=Chambray-les-Tours:geo:0,0
END:VEVENT
BEGIN:VTIMEZONE
TZID:Europe/Paris
X-LIC-LOCATION:Europe/Paris
BEGIN:STANDARD
DTSTART:20251026T020000
TZOFFSETFROM:+0200
TZOFFSETTO:+0100
TZNAME:CET
END:STANDARD
END:VTIMEZONE
END:VCALENDAR