BEGIN:VCALENDAR
VERSION:2.0
PRODID:-//wp-events-plugin.com//7.2.3//EN
TZID:Europe/Paris
X-WR-TIMEZONE:Europe/Paris
BEGIN:VEVENT
UID:253@pat-cvl.fr
DTSTART;TZID=Europe/Paris:20250605T100000
DTEND;TZID=Europe/Paris:20250605T163000
DTSTAMP:20250505T085615Z
URL:https://www.pat-cvl.fr/agenda/rencontre-reseaux-regionaux-france-pat/
SUMMARY:Rencontre Réseaux Régionaux - France PAT
DESCRIPTION:L'équipe France PAT\, Terres en villes et Chambres d'agricultu
 re France\, a le plaisir de vous annoncer et de vous convier à la Rencont
 re des Réseaux Régionaux de PAT\, le jeudi 5 juin 2025\, de 10h à 16h30
 \, à Paris.\n\nAu programme :\n\n 	9h30 - 10h00 : Accueil Café\n 	10h00 
 - 10h15 : Ouverture de la rencontre\n 	10h15 - 10h45 : Les réseaux de PAT
  et le suivi évaluation - accompagnements passés et à venir\n 	10h45 - 
 12h30 : Ateliers méthodologiques sur le pilotage et l'animation des coop
 érations entre PAT.\n 	12h30 - 14h00 : Déjeuner (offert)\n 	14h00 - 16h0
 0 : Temps d'échanges sur le passage de la SNANC et les nouveaux liens ent
 re alimentation\, nutrition et climat.\n 	16h00 - 16h30 : Clôture\n\n&gt\
 ;&gt\; Lien d'inscription &lt\;&lt\; 
ATTACH;FMTTYPE=image/jpeg:https://www.pat-cvl.fr/wp-content/uploads/2025/0
 5/france-pat.png
END:VEVENT
BEGIN:VTIMEZONE
TZID:Europe/Paris
X-LIC-LOCATION:Europe/Paris
BEGIN:DAYLIGHT
DTSTART:20250330T030000
TZOFFSETFROM:+0100
TZOFFSETTO:+0200
TZNAME:CEST
END:DAYLIGHT
END:VTIMEZONE
END:VCALENDAR