BEGIN:VCALENDAR
VERSION:2.0
PRODID:-//wp-events-plugin.com//7.2.3//EN
TZID:Europe/Paris
X-WR-TIMEZONE:Europe/Paris
BEGIN:VEVENT
UID:185@pat-cvl.fr
DTSTART;TZID=Europe/Paris:20240709T100000
DTEND;TZID=Europe/Paris:20240709T120000
DTSTAMP:20240617T144108Z
URL:https://www.pat-cvl.fr/agenda/webinaire-decouverte-territoires-fertile
 s/
SUMMARY:Webinaire découverte Territoires Fertiles
DESCRIPTION:Le 09 juillet prochain à 10H30\, découvrez Territoires Fertil
 es\, dans le cadre d'un Webinaire d'1H30 proposé par Idealco !\nÀ l'occa
 sion de la sortie ce nouvel outil\, Lan Anh Vu Hong (Les Greniers d'Abonda
 nce) et Pauline Falgareiro (Banque des Territoires) vous présenteront les
  parcours proposés par la plateforme numérique\, ses fonctionnalités ac
 tuelles et à venir et recueillerons vos remarques et impressions...\nTerr
 itoires Fertiles est un projet numérique open source qui vise à raconter
  les enjeux agricoles et alimentaire des territoires\, encourager le passa
 ge à l'action et outiller les porteurs de projet (par la mise en avant d'
 initiatives\, de données et ressources souvent éparses et méconnues).\n
 Financé par la Banque des Territoires\, la fondation Daniel et Nina Caras
 so et lauréat de l’appel à projet interministériel Programme National
  pour l’Alimentation 2024\, le projet est né du rapprochement de CRATer
  et Parcel après un an de travail collectif. Il est développé par Les G
 reniers d'Abondance en partenariat avec Le Basic\, Terre de Liens et la FN
 AB.
ATTACH;FMTTYPE=image/jpeg:https://www.pat-cvl.fr/wp-content/uploads/2024/0
 6/idealco.png
LOCATION:https://hello.idealco.fr/inscription-wcf-territoires-fertiles-1/
END:VEVENT
BEGIN:VTIMEZONE
TZID:Europe/Paris
X-LIC-LOCATION:Europe/Paris
BEGIN:DAYLIGHT
DTSTART:20240331T030000
TZOFFSETFROM:+0100
TZOFFSETTO:+0200
TZNAME:CEST
END:DAYLIGHT
END:VTIMEZONE
END:VCALENDAR