BEGIN:VCALENDAR
VERSION:2.0
PRODID:-//wp-events-plugin.com//7.2.3//EN
TZID:Europe/Paris
X-WR-TIMEZONE:Europe/Paris
BEGIN:VEVENT
UID:249@pat-cvl.fr
DTSTART;TZID=Europe/Paris:20250514T110000
DTEND;TZID=Europe/Paris:20250514T123000
DTSTAMP:20250411T101612Z
URL:https://www.pat-cvl.fr/agenda/webinaire-lancer-une-demarche-de-lutte-c
 ontre-la-precarite-alimentaire-sur-mon-territoire-diagnostiquer-et-constru
 ire-une-gouvernance-des-solutions/
SUMMARY:Webinaire - Lancer une démarche de lutte contre la précarité ali
 mentaire sur mon territoire : diagnostiquer et construire une gouvernance 
 des solutions
DESCRIPTION:Objectifs du webinaire\nDe nombreux rapports alertent sur l’a
 ugmentation du nombre de personnes en situation de précarité alimentaire
  dans l'ensemble des territoires ruraux et urbains de Nouvelle-Aquitaine.\
 n\nLa nécessité d’agir ne fait plus débat… mais une question centra
 le se pose : par où commencer pour construire une réponse collective et 
 adaptée ?\n\nUne première étape consiste à dresser un état des lieux\
 , en mesurant la précarité alimentaire sur son territoire\, et en mobili
 sant les acteurs déjà engagés ou concernés.\n\nQue l’on soit élu\, 
 agent de collectivité\, acteur de l’alimentation\, de l’inclusion ou 
 de l’ESS\, en territoires ruraux ou urbains\, ces questions s’imposent
  face à l’urgence :\n\n\n 	Comment qualifier la précarité alimentaire
  pour mieux y répondre ? Quelle méthode utiliser pour la diagnostiquer ?
  A quelle échelle territoriale faut-il réaliser ce diagnostic ?\n\n 	Que
 ls acteurs réunir ? Comment les faire réfléchir ensemble pour créer un
  plan d’action partagé ? Comment animer cette gouvernance ?\n\nProgramm
 e\nLe webinaire prendra la forme d’un dialogue croisé entre plusieurs i
 ntervenantes aux regards complémentaires et d'un temps de questions-répo
 nses avec les participants :\n\n 	 Julie Erceau\, directrice déléguée &
 amp\; responsable de projets à l'Agence Nouvelle des Solidarités Actives
 .\nUn regard d'experte pour faire le point sur les indicateurs existants e
 t apporter des éléments méthodologiques sur le diagnostic et la gouvern
 ance dans une démarche de lutte contre la précarité alimentaire.\n\n 	L
 aurence Liégeois\, responsable du pôle Cohésion à PQN-A\nÉclairage su
 r la gouvernance de la politique de la ville et les enjeux d’alimentatio
 n dans les quartiers prioritaires.\n\n 	Chargée de mission alimentation &
 amp\; solidarités au Comité du Bassin d'Emploi (CBE) du Seignanx.\nRetou
 r d'expérience du CBE sur le montage de la gouvernance de la lutte contr
 e la précarité alimentaire sur son territoire\, ainsi que sur le diagnos
 tic mené notamment dans le cadre du projet Mission d'Ingénierie et Anima
 tion pour le Mieux Manger (MIAMM)\n\n\n
ATTACH;FMTTYPE=image/jpeg:https://www.pat-cvl.fr/wp-content/uploads/2024/1
 1/pqna.png
LOCATION:https://pqn-a.fr/fr/actualites/agenda/pqn-a-webinaire-lancer-une-d
 emarche-de-lutte-contre-la-precarite-alimentaire-diagnostiquer-et-construi
 re-une-gouvernance-des-solutions
END:VEVENT
BEGIN:VTIMEZONE
TZID:Europe/Paris
X-LIC-LOCATION:Europe/Paris
BEGIN:DAYLIGHT
DTSTART:20250330T030000
TZOFFSETFROM:+0100
TZOFFSETTO:+0200
TZNAME:CEST
END:DAYLIGHT
END:VTIMEZONE
END:VCALENDAR